BEGIN:VCALENDAR
PRODID:-//Microsoft Corporation//Outlook MIMEDIR//EN
VERSION:2.0
METHOD:PUBLISH
BEGIN:VEVENT
DTSTART:20260427T143000
DTEND:20260427T153000
DESCRIPTION:SPECIAL MEETING
LOCATION:City Hall, Council Chamber, 100 Santa Rosa Avenue Santa Rosa, CA  95404
SUMMARY:City Council
CATEGORIES:MEETING
END:VEVENT
END:VCALENDAR
